BEGIN:VCALENDAR
PRODID:-//eluceo/ical//2.0/EN
VERSION:2.0
CALSCALE:GREGORIAN
BEGIN:VEVENT
UID:de913805fb49241e05b390136df8f0dc
DTSTAMP:20260422T234057Z
SUMMARY:The Mussar Path Beckons with Rabbi Eric Gurvis
DESCRIPTION:Jewish Federation of the Berkshires\nBerkshire Jewish Community
  Calendar\nhttps://jewishberkshires.org/jewish-federation-of-the-berkshire
 s-calendar/the-mussar-path-beckons-with-rabbi-eric-gurvis-1669240793\n\nRa
 bbi Eric Gurvis teaches a new series of virtual classes following the Muss
 ar path. Course costs $360 and runs from December to June. Pre-registratio
 n is required.
DTSTART;TZID=America/New_York:20221205T120000
DTEND;TZID=America/New_York:20221205T133000
END:VEVENT
END:VCALENDAR
