BEGIN:VCALENDAR
PRODID:-//eluceo/ical//2.0/EN
VERSION:2.0
CALSCALE:GREGORIAN
BEGIN:VEVENT
UID:a72685388a7ceb7bf6a98cb9207b93ea
DTSTAMP:20260421T141456Z
SUMMARY:The Mobile Museum of Tolerance MA Community Open House
DESCRIPTION:Jewish Federation of the Berkshires\nBerkshire Jewish Community
  Calendar\nhttps://jewishberkshires.org/jewish-federation-of-the-berkshire
 s-calendar/the-mobile-museum-of-tolerance-ma-community-open-house\n\nThe M
 obile Museum of Tolerance MA is coming to the Berkshires.\n\nIn partnershi
 p with the Jewish Federation of the Berkshires and Berk12\, the community 
 is invited to come explore the interactive exhibits and experience this po
 werful educational resource\, soon to be available to all middle and high 
 schools across the Berkshires.  \n\nThe Mobile Museum will be located in
  the side parking lot\, 196 South St\, Pittsfield from 3:00-6:00pm.
DTSTART;TZID=America/New_York:20251105T150000
DTEND;TZID=America/New_York:20251105T180000
END:VEVENT
END:VCALENDAR
