BEGIN:VCALENDAR
PRODID:-//eluceo/ical//2.0/EN
VERSION:2.0
CALSCALE:GREGORIAN
BEGIN:VEVENT
UID:ba25768281e3e26c648b27801722e894
DTSTAMP:20260420T143743Z
SUMMARY:The Life and Work of Janusz Korczak
DESCRIPTION:Jewish Federation of the Berkshires\nBerkshire Jewish Community
  Calendar\nhttps://jewishberkshires.org/jewish-federation-of-the-berkshire
 s-calendar/the-life-and-legacy-of-dr-janusz-korczak\n\nThe Jewish Federati
 on Connecting with Community presents "The Life and Work of Janusz Korczak
 ."
DTSTART;TZID=America/New_York:20180604T104500
DTEND;TZID=America/New_York:20180604T120000
END:VEVENT
END:VCALENDAR
