BEGIN:VCALENDAR
PRODID:-//eluceo/ical//2.0/EN
VERSION:2.0
CALSCALE:GREGORIAN
BEGIN:VEVENT
UID:9916bdd0e9fa5f1dbc42606a5bb8bea0
DTSTAMP:20260422T134048Z
SUMMARY:The Liberation of Auschwitz 1945
DESCRIPTION:Jewish Federation of the Berkshires\nBerkshire Jewish Community
  Calendar\nhttps://jewishberkshires.org/jewish-federation-of-the-berkshire
 s-calendar/the-liberation-of-auschwitz-1945\n\nThe liberation of Auschwitz
  occurred 75 years ago on January 27\, 1945
DTSTART;TZID=America/New_York:20200227T104500
DTEND;TZID=America/New_York:20200227T120000
END:VEVENT
END:VCALENDAR
