BEGIN:VCALENDAR
PRODID:-//eluceo/ical//2.0/EN
VERSION:2.0
CALSCALE:GREGORIAN
BEGIN:VEVENT
UID:8ab4d6c761a985f7c9f2f448c041d6bc
DTSTAMP:20260422T090250Z
SUMMARY:The Joy of Connecting: A JBC Community One Read in honor of Dr. Rut
 h
DESCRIPTION:Jewish Federation of the Berkshires\nBerkshire Jewish Community
  Calendar\nhttps://jewishberkshires.org/jewish-federation-of-the-berkshire
 s-calendar/the-joy-of-connecting-a-jbc-community-one-read-in-honor-of-dr-r
 uth\n\nVia Zoom.  Register HERE.\n\nJewish Literary Voices: A Federation 
 Series in collaboration with The Jewish Book Council\n\nSPECIAL EVENT—Th
 e Joy of Connections: A Community One Read in honor of the late Dr. Ruth W
 estheimer\n\nJoin Jewish Book Council in partnership with Jewish Federatio
 n of the Berkshires and other JBC Network sites for an interactive convers
 ation with Allison Gilbert moderated by Lori Gottlieb about the late Dr. R
 uth. \n\nWhen Sur­geon Gen­er­al Vivek Murthy sound­ed ...
DTSTART;TZID=America/New_York:20240924T130000
DTEND;TZID=America/New_York:20240924T140000
END:VEVENT
END:VCALENDAR
