BEGIN:VCALENDAR
PRODID:-//eluceo/ical//2.0/EN
VERSION:2.0
CALSCALE:GREGORIAN
BEGIN:VEVENT
UID:dffba3e0008a2690dd00f5a28cbc1319
DTSTAMP:20260423T141521Z
SUMMARY:The Jews of Greece
DESCRIPTION:Jewish Federation of the Berkshires\nBerkshire Jewish Community
  Calendar\nhttps://jewishberkshires.org/jewish-federation-of-the-berkshire
 s-calendar/the-jews-of-greece-1772483305\n\nThessaloniki (Salonika) was a 
 premier center of Sephardic Jewish life in Greece\, often called the "Jeru
 salem of the Balkans\," with a Jewish majority for centuries after 1492. I
 oanina (Janina) was the center for Romaniote Jews\, with a history dating 
 back to the 2nd Temple period—far older than that of Sephardic Judaism. 
 Come learn about this rich Jewish history in Greece\, the devastation of w
 hat happened during the Holocaust\, and about Jewish life in Greece today.
  Rabbi Pam Wax will reflect ...
DTSTART;TZID=America/New_York:20260412T183000
DTEND;TZID=America/New_York:20260412T200000
END:VEVENT
END:VCALENDAR
