BEGIN:VCALENDAR
PRODID:-//eluceo/ical//2.0/EN
VERSION:2.0
CALSCALE:GREGORIAN
BEGIN:VEVENT
UID:9b029e113565e861229ddbbc2f4beaa5
DTSTAMP:20260422T032058Z
SUMMARY:The Jewish War Veterans: A Berkshire Legacy
DESCRIPTION:Jewish Federation of the Berkshires\nBerkshire Jewish Community
  Calendar\nhttps://jewishberkshires.org/jewish-federation-of-the-berkshire
 s-calendar/the-jewish-war-veterans-a-berkshire-legacy\n\nThe Jewish Federa
 tion of the Berkshires' Connecting with Community welcomes Robert Waldheim
 \, commander of the Jewish War Veterans of the USA\, Louis Green Post #140
  of Pittsfield.
DTSTART;TZID=America/New_York:20160428T104500
DTEND;TZID=America/New_York:20160428T120000
END:VEVENT
END:VCALENDAR
