BEGIN:VCALENDAR
PRODID:-//eluceo/ical//2.0/EN
VERSION:2.0
CALSCALE:GREGORIAN
BEGIN:VEVENT
UID:877ffa559db90bb0c7c633a78533a6e3
DTSTAMP:20260423T212304Z
SUMMARY:The Intractable Middle East
DESCRIPTION:Jewish Federation of the Berkshires\nBerkshire Jewish Community
  Calendar\nhttps://jewishberkshires.org/jewish-federation-of-the-berkshire
 s-calendar/the-intractable-middle-east\n\nProfessor Stephen Berk\, Profess
 or of Holocaust and Jewish Studies\, Union College\, will be speaking on t
 he “The Intractable Middle East"
DTSTART;TZID=America/New_York:20150517T160000
DTEND;TZID=America/New_York:20150517T180000
END:VEVENT
END:VCALENDAR
