BEGIN:VCALENDAR
PRODID:-//eluceo/ical//2.0/EN
VERSION:2.0
CALSCALE:GREGORIAN
BEGIN:VEVENT
UID:a9a3499719b91951e0049cfa4bbb8f3c
DTSTAMP:20260425T001424Z
SUMMARY:The Ins and Outs of Book Publishing with Literary Agent Irene Goodm
 an
DESCRIPTION:Jewish Federation of the Berkshires\nBerkshire Jewish Community
  Calendar\nhttps://jewishberkshires.org/jewish-federation-of-the-berkshire
 s-calendar/the-ins-and-outs-of-book-publishing-with-literary-agent-irene-g
 oodman\n\nPlease note:  Vaccinations for all those eligible are required.
   Masks optional but encouraged.\n\nBook publishing is attractive to many
 \, but few know much about it. How does an author sell a book? What happen
 s once they do\, and what can the author expect? This process has grown a 
 mystique that is often misinformed. Guided by literary agent Irene Goodman
 \, learn about how to break in\, what traps to avoid\, conferences and wri
 ters’ groups\, subsidiary rights\, how a publisher makes money\, and ...
DTSTART;TZID=America/New_York:20221013T104500
DTEND;TZID=America/New_York:20221013T114500
END:VEVENT
END:VCALENDAR
