BEGIN:VCALENDAR
PRODID:-//eluceo/ical//2.0/EN
VERSION:2.0
CALSCALE:GREGORIAN
BEGIN:VEVENT
UID:101a13687b0fefdd660de340dfa00135
DTSTAMP:20260421T134126Z
SUMMARY:The Imam and the Rabbi: Finding Shalom
DESCRIPTION:Jewish Federation of the Berkshires\nBerkshire Jewish Community
  Calendar\nhttps://jewishberkshires.org/jewish-federation-of-the-berkshire
 s-calendar/the-imam-and-the-rabbi-finding-shalom-1427892804\n\nRabbi Josh 
 Breindel and Imam Salim Chishti (Abode of the Message) offer a conversatio
 n about the shared spiritual values of Judaism and Islam.   All are welcom
 e to join in this powerful experience of learning and hope. Light refreshm
 ents will be served.
DTSTART;TZID=America/New_York:20150628T140000
DTEND;TZID=America/New_York:20150628T153000
END:VEVENT
END:VCALENDAR
