BEGIN:VCALENDAR
PRODID:-//eluceo/ical//2.0/EN
VERSION:2.0
CALSCALE:GREGORIAN
BEGIN:VEVENT
UID:5820f746442ea69fc6025711be2776b5
DTSTAMP:20260426T041536Z
SUMMARY:The Hazon One Day Ride
DESCRIPTION:Jewish Federation of the Berkshires\nBerkshire Jewish Community
  Calendar\nhttps://jewishberkshires.org/jewish-federation-of-the-berkshire
 s-calendar/the-hazon-one-day-ride-1470154728\n\nLooking for an active\, fu
 n way to spend Labor Day in the Berkshires? The Hazon One Day Ride is an o
 pportunity for participants to cycle in support of Jewish and environmenta
 l causes across the U.S and in Israel. Participants have the option of bik
 ing on 4 different\, awesome routes and enjoying rest stops where they wil
 l be provided with organic\, healthy snacks. The event will culminate in a
  delicious farm-to-table dinner at the Isabella Freedman Retreat Center in
  Falls Village\, Connecticut. R...
DTSTART;TZID=America/New_York:20160904T000000
DTEND;TZID=America/New_York:20160904T235900
END:VEVENT
END:VCALENDAR
