BEGIN:VCALENDAR
PRODID:-//eluceo/ical//2.0/EN
VERSION:2.0
CALSCALE:GREGORIAN
BEGIN:VEVENT
UID:43465bb0e68b0d30459c2b31c75fb3c4
DTSTAMP:20260422T154716Z
SUMMARY:The Game of Life—and Death
DESCRIPTION:Jewish Federation of the Berkshires\nBerkshire Jewish Community
  Calendar\nhttps://jewishberkshires.org/jewish-federation-of-the-berkshire
 s-calendar/the-game-of-lifeand-death-1554828747\n\n“Hello” is a conver
 sation game about living and dying and what matters most. Hevreh is sponso
 ring two opportunities to play “Hello”\, a game designed to open doors
  of exploration and help identify what is most important to you. You will 
 laugh\, cry\, and discover new things about yourself and the people you ca
 re about. We request that you RSVP in advance but walk-ins are welcome. Co
 me to one or both of these events\, sponsored by our Hevra Kadisha. Go to 
 hevreh.org/summer to register.
DTSTART;TZID=America/New_York:20190625T180000
DTEND;TZID=America/New_York:20190625T235959
END:VEVENT
END:VCALENDAR
