BEGIN:VCALENDAR
PRODID:-//eluceo/ical//2.0/EN
VERSION:2.0
CALSCALE:GREGORIAN
BEGIN:VEVENT
UID:dc1f381804b084813f6fc6a68d260d4c
DTSTAMP:20260424T122442Z
SUMMARY:The First Annual Temple Anshe Amunim Education Celebration
DESCRIPTION:Jewish Federation of the Berkshires\nBerkshire Jewish Community
  Calendar\nhttps://jewishberkshires.org/jewish-federation-of-the-berkshire
 s-calendar/the-first-annual-taa-education-celebration-1454098101\n\nJoin u
 s for a reunion and celebration of Anshe’s Religious School and The Kids
 ’ Preschool.  
DTSTART;TZID=America/New_York:20160702T173000
DTEND;TZID=America/New_York:20160702T203000
END:VEVENT
END:VCALENDAR
