BEGIN:VCALENDAR
PRODID:-//eluceo/ical//2.0/EN
VERSION:2.0
CALSCALE:GREGORIAN
BEGIN:VEVENT
UID:8c9b583ade1fd8487b06e29ada7d743d
DTSTAMP:20260424T135048Z
SUMMARY:"The Extra" by Israeli novelist A.B. Yehoshua
DESCRIPTION:Jewish Federation of the Berkshires\nBerkshire Jewish Community
  Calendar\nhttps://jewishberkshires.org/jewish-federation-of-the-berkshire
 s-calendar/the-extra-by-israeli-novelist-ab-yehoshua\n\nThe Jewish Federat
 ion Connecting with Community welcomes Dr. Avraham Horowitz who will discu
 ss "The Extra" by Israeli novelist\, A.B. Yehoshua.
DTSTART;TZID=America/New_York:20170731T104500
DTEND;TZID=America/New_York:20170731T120000
END:VEVENT
END:VCALENDAR
