BEGIN:VCALENDAR
PRODID:-//eluceo/ical//2.0/EN
VERSION:2.0
CALSCALE:GREGORIAN
BEGIN:VEVENT
UID:c05389d6f84b13dd0e09a05260ac1294
DTSTAMP:20260422T215729Z
SUMMARY:Barbara Kruger: Thought-Provoking Photographic Works
DESCRIPTION:Jewish Federation of the Berkshires\nBerkshire Jewish Community
  Calendar\nhttps://jewishberkshires.org/jewish-federation-of-the-berkshire
 s-calendar/the-bold-photographs-of-barbara-kruger\n\nVia Zoom\n\nRegister 
 Here\n\nBarbara Kruger is known for her bold photographs to which thought-
 provoking messages have been added. These short texts\, white inscriptions
  over a red field\, treat social and political attitudes from gender stere
 otypes to consumerism. With a background in graphic design and photography
 \, Kruger’s public installations have appeared in galleries\, museums\, 
 billboards\, municipal buildings\, department stores\, buses\, train stati
 ons\, and parks around the world. Such r...
DTSTART;TZID=America/New_York:20220106T184500
DTEND;TZID=America/New_York:20220106T194500
END:VEVENT
END:VCALENDAR
