BEGIN:VCALENDAR
PRODID:-//eluceo/ical//2.0/EN
VERSION:2.0
CALSCALE:GREGORIAN
BEGIN:VEVENT
UID:6ff96bb3828487e76bdb86507b684239
DTSTAMP:20260420T062359Z
SUMMARY:The Berkshire Museum Now\, and What Comes Next
DESCRIPTION:Jewish Federation of the Berkshires\nBerkshire Jewish Community
  Calendar\nhttps://jewishberkshires.org/jewish-federation-of-the-berkshire
 s-calendar/the-berkshire-museum-now-and-what-comes-next--\n\nBerkshire Mus
 eum is fortunate to be making unfrastructure improvements\, keeping staff 
 employed\, working to adapt to the community's current needs\, and plannin
 g to be part of the fabric of the Berkshires in the future\, whatever it m
 ay hold.  
DTSTART;TZID=America/New_York:20200625T104500
DTEND;TZID=America/New_York:20200625T120000
END:VEVENT
END:VCALENDAR
