BEGIN:VCALENDAR
PRODID:-//eluceo/ical//2.0/EN
VERSION:2.0
CALSCALE:GREGORIAN
BEGIN:VEVENT
UID:d2edd42a0568a4e84c854cb91437814d
DTSTAMP:20260424T024309Z
SUMMARY:The Berkshire Hillsmen Chorus
DESCRIPTION:Jewish Federation of the Berkshires\nBerkshire Jewish Community
  Calendar\nhttps://jewishberkshires.org/jewish-federation-of-the-berkshire
 s-calendar/the-berkshire-hillsmen-chorus\n\nThe Jewish Federation Connecti
 ng with Community welcomes The Berkshire Hillsmen Chorus
DTSTART;TZID=America/New_York:20190207T104500
DTEND;TZID=America/New_York:20190207T120000
END:VEVENT
END:VCALENDAR
