BEGIN:VCALENDAR
PRODID:-//eluceo/ical//2.0/EN
VERSION:2.0
CALSCALE:GREGORIAN
BEGIN:VEVENT
UID:dbc936126abd1eaed4075cdfd37b4bf2
DTSTAMP:20260424T064547Z
SUMMARY:The Berkshires Farm Table Cookbook: Local Farms Through a Jewish Le
 ns
DESCRIPTION:Jewish Federation of the Berkshires\nBerkshire Jewish Community
  Calendar\nhttps://jewishberkshires.org/jewish-federation-of-the-berkshire
 s-calendar/the-berkhsires-farm-table-cookbook-with-authors-the-bildners\n\
 nJoin authors Elisa Spungen Bildner and Robert Bildner who will discuss th
 e ethics and philosophy of 42 local farmers and farm to table chefs in the
  Berkshires.
DTSTART;TZID=America/New_York:20200604T104500
DTEND;TZID=America/New_York:20200604T120000
END:VEVENT
END:VCALENDAR
