BEGIN:VCALENDAR
PRODID:-//eluceo/ical//2.0/EN
VERSION:2.0
CALSCALE:GREGORIAN
BEGIN:VEVENT
UID:8d43733d8d202ea314bcbce0c27e0efe
DTSTAMP:20260419T203753Z
SUMMARY:The Artist Torah
DESCRIPTION:Jewish Federation of the Berkshires\nBerkshire Jewish Community
  Calendar\nhttps://jewishberkshires.org/jewish-federation-of-the-berkshire
 s-calendar/the-artist-torah-1457535633\n\nRabbi Weiner and Artist Amy Tayl
 or guided several artists to develop interpretations of Moses' confrontati
 on at the burning bush. Presentation of their works and light refreshments
 .
DTSTART;TZID=America/New_York:20160918T150000
DTEND;TZID=America/New_York:20160918T170000
END:VEVENT
END:VCALENDAR
