BEGIN:VCALENDAR
PRODID:-//eluceo/ical//2.0/EN
VERSION:2.0
CALSCALE:GREGORIAN
BEGIN:VEVENT
UID:773b99d8685fc132c1339ce5de6916e1
DTSTAMP:20260422T121250Z
SUMMARY:The Art of Tikkun Olam
DESCRIPTION:Jewish Federation of the Berkshires\nBerkshire Jewish Community
  Calendar\nhttps://jewishberkshires.org/jewish-federation-of-the-berkshire
 s-calendar/the-art-of-tikkun-olam\n\nPlease register HERE.\n\nThis Jewish 
 Art Education program led by Prof. Joanna Homrighausen identifies the cit
 ation from Pirke Avot/Ethics of the Fathers that determines the role of Ti
 kkun Olam/Fixing the World in the Jewish world and surveys the many custom
 s developed to observe it. Through sculpture\, prints and paintings\, phot
 ographs\, and objects of many different media\, Jews are charged to give c
 harity as the right thing to do in different times and places.\n\nJoanna H
 omrighausen writes a...
DTSTART;TZID=America/New_York:20250417T190000
DTEND;TZID=America/New_York:20250417T200000
END:VEVENT
END:VCALENDAR
