BEGIN:VCALENDAR
PRODID:-//eluceo/ical//2.0/EN
VERSION:2.0
CALSCALE:GREGORIAN
BEGIN:VEVENT
UID:deab98d705083c0f79881edc2f58da51
DTSTAMP:20260423T140841Z
SUMMARY:The Art of Sukkot
DESCRIPTION:Jewish Federation of the Berkshires\nBerkshire Jewish Community
  Calendar\nhttps://jewishberkshires.org/jewish-federation-of-the-berkshire
 s-calendar/the-art-of-sukkot\n\nVirtual program  Please click HERE to reg
 ister.\n\nNancy Kotz will explore an overview of artworks related to the s
 even day-harvest festival of Sukkot (Hebrew for “Tabernacles”). It is 
 the happiest of biblical holidays and celebrates the bounty of nature. A f
 ragile booth and four species of plants represent the agricultural world.\
 n\nTHE ART OF SUKKOT program includes woodcuts\, etchings\, illuminated ma
 nuscripts\, papercuts\, silver and wood etrog boxes\, paintings\, photogra
 phs and prints. I...
DTSTART;TZID=America/New_York:20231005T190000
DTEND;TZID=America/New_York:20231005T210000
END:VEVENT
END:VCALENDAR
