BEGIN:VCALENDAR
PRODID:-//eluceo/ical//2.0/EN
VERSION:2.0
CALSCALE:GREGORIAN
BEGIN:VEVENT
UID:4f286f853640578362d0f1dfd84ffcb8
DTSTAMP:20260424T154755Z
SUMMARY:The Art of Marc Chagall: Love and War through Yiddish Eyes
DESCRIPTION:Jewish Federation of the Berkshires\nBerkshire Jewish Community
  Calendar\nhttps://jewishberkshires.org/jewish-federation-of-the-berkshire
 s-calendar/the-art-of-marc-chagall-love-and-war-through-yiddish-eyes\n\nRE
 SCHEDULED from Oct. 19 to Oct. 30th\n\nVia Zoom.  Register HERE.\n\nBorn 
 in a small Russian village\, Marc Chagall rose to become one of the most f
 amous and influential artists of his day.  His paintings are filled with 
 fantastic imagery: lovers flying over cities\, animals with human faces\, 
 people turning into violins\, musicians leaping over rooftops.  Yet despi
 te his many sources of inspiration\, his Jewish roots\, he said\, were alw
 ays his truest guide: “If I were not Jewish I never woul...
DTSTART;TZID=America/New_York:20231030T190000
DTEND;TZID=America/New_York:20231030T200000
END:VEVENT
END:VCALENDAR
