BEGIN:VCALENDAR
PRODID:-//eluceo/ical//2.0/EN
VERSION:2.0
CALSCALE:GREGORIAN
BEGIN:VEVENT
UID:d4e7e5121c165a3272f5842b8350ca4d
DTSTAMP:20260419T135304Z
SUMMARY:The Art of Hanukkah
DESCRIPTION:Jewish Federation of the Berkshires\nBerkshire Jewish Community
  Calendar\nhttps://jewishberkshires.org/jewish-federation-of-the-berkshire
 s-calendar/the-art-of-hanukkah\n\nRegister for the virtual link HERE.\n\nN
 ancy Kotz will explore an overview of artworks related to the miracle of t
 he oil and the re-dedication of the Holy Temple. It is both the ‘Holiday
  of Freedom’ and the ‘Holiday of Lights.’ Illuminated manuscripts\, 
 etchings\, woodcuts\, photographs\, paintings\, and Hanukah Lamps of marbl
 e\, brass\, silver\, stone\, iron\, and glass are all included. THE ART OF
  HANUKAH tells the story of this holiday through art objects from many cen
 turies.\n\nNancy is the...
DTSTART;TZID=America/New_York:20221219T184500
DTEND;TZID=America/New_York:20221219T194500
END:VEVENT
END:VCALENDAR
