BEGIN:VCALENDAR
PRODID:-//eluceo/ical//2.0/EN
VERSION:2.0
CALSCALE:GREGORIAN
BEGIN:VEVENT
UID:5d55887e8a345498afcde4820f694796
DTSTAMP:20260420T124920Z
SUMMARY:The Art of Ancient Hebrew Letters: Manuscripts\, Mysticism\, and Mo
 nsters
DESCRIPTION:Jewish Federation of the Berkshires\nBerkshire Jewish Community
  Calendar\nhttps://jewishberkshires.org/jewish-federation-of-the-berkshire
 s-calendar/the-art-of-ancient-hebrew-letters-manuscripts-mysticism-and-mon
 sters\n\nPlease register HERE.\n\nJoin us for the first of three standalon
 e talks (additional sessions on Jan. 8\, 2026 on Ben Shahn and the Art of 
 Hebrew Calligraphy and Feb. 26\, 2026 on Hebrew Calligraphy and Letter Art
 s Today: Tattoos\, Type\, and Graffiti) on the calligraphy and mysticism o
 f the Hebrew alphabet. No knowledge of Hebrew language required.\n\nThis J
 ewish Art Education program on The Art of Ancient Hebrew Letters: Manuscr
 ipts\, Mysticism\, and Monsters led by Prof. Joanna Homrighausen wi...
DTSTART;TZID=America/New_York:20251218T190000
DTEND;TZID=America/New_York:20251218T200000
END:VEVENT
END:VCALENDAR
