BEGIN:VCALENDAR
PRODID:-//eluceo/ical//2.0/EN
VERSION:2.0
CALSCALE:GREGORIAN
BEGIN:VEVENT
UID:d17c06ad5ef31c24b533d6a5d38211f0
DTSTAMP:20260422T134007Z
SUMMARY:The Art and Practice of Mussar
DESCRIPTION:Jewish Federation of the Berkshires\nBerkshire Jewish Community
  Calendar\nhttps://jewishberkshires.org/jewish-federation-of-the-berkshire
 s-calendar/the-art-and-practice-of-mussar-1697469009\n\nMussar is a contem
 plative Jewish practice of refining one's middot\, qualities of heart\, an
 d behavior. In each of the 9 monthly sessions\, we will study texts and pr
 actice techniques for cultivating a middah\, such as patience\, generosity
 \, compassion\, or faith. Paired chevruta study between sessions will be a
 rranged and encouraged.\n\nThis class takes place in a hybrid format and i
 s open to all. Come in person to Congregation Knesset Israel in Pittsfield
 \, MA\, or Zoom in from 3-4:30 PM Eastern on...
DTSTART;TZID=America/New_York:20231120T150000
DTEND;TZID=America/New_York:20231120T163000
END:VEVENT
END:VCALENDAR
