BEGIN:VCALENDAR
PRODID:-//eluceo/ical//2.0/EN
VERSION:2.0
CALSCALE:GREGORIAN
BEGIN:VEVENT
UID:95e0c276c98bee401ee3f4753ce04e11
DTSTAMP:20260426T000822Z
SUMMARY:The Animal and Divine Souls in Jewish Thought
DESCRIPTION:Jewish Federation of the Berkshires\nBerkshire Jewish Community
  Calendar\nhttps://jewishberkshires.org/jewish-federation-of-the-berkshire
 s-calendar/the-animal-and-divine-souls-in-jewish-thought\n\nThe Jewish Fed
 eration Connecting with Community program hosts writer\, artist\, scholar 
 of Hasidic thought\, and spiritual leader of New Lebanon’s Abode of the 
 Message Netanel Miles-Yépez\, who will talk about “The Animal and Divin
 e Souls in Jewish Thought.” 
DTSTART;TZID=America/New_York:20170504T104500
DTEND;TZID=America/New_York:20170504T120000
END:VEVENT
END:VCALENDAR
