BEGIN:VCALENDAR
PRODID:-//eluceo/ical//2.0/EN
VERSION:2.0
CALSCALE:GREGORIAN
BEGIN:VEVENT
UID:b68bc6c48f56c83906d3609da592475e
DTSTAMP:20260424T122655Z
SUMMARY:Temple Anshe Amunim Hosts a Chocolate Seder for All Ages
DESCRIPTION:Jewish Federation of the Berkshires\nBerkshire Jewish Community
  Calendar\nhttps://jewishberkshires.org/jewish-federation-of-the-berkshire
 s-calendar/temple-anshe-amunim-hosts-a-chocolate-seder-for-all-ages-151629
 0088\n\nIn this family-friendly event we will explore the story of the Exo
 dus using chocolate in place of the traditional Passover foods. Participan
 ts will learn about the deeper symbolism of the Exodus and will be given e
 ducational materials to enhance their own Seders. The cost of this event i
 s $8 per person with a maximum of $30 per family. All chocolate will be nu
 t free\, gluten free and dairy free. Sugar free options will be available 
 upon request. All ages are warmly invited to participate in...
DTSTART;TZID=America/New_York:20180324T160000
DTEND;TZID=America/New_York:20180324T173000
END:VEVENT
END:VCALENDAR
