BEGIN:VCALENDAR
PRODID:-//eluceo/ical//2.0/EN
VERSION:2.0
CALSCALE:GREGORIAN
BEGIN:VEVENT
UID:8428dbfbaeb5ce731bf9ef1d83e02d8f
DTSTAMP:20260424T183950Z
SUMMARY:Temple Anshe Amunim Hosts a Chocolate Seder for All Ages
DESCRIPTION:Jewish Federation of the Berkshires\nBerkshire Jewish Community
  Calendar\nhttps://jewishberkshires.org/jewish-federation-of-the-berkshire
 s-calendar/temple-anshe-amunim-hosts-a-chocolate-seder-for-all-ages-148883
 7324\n\nIn this family-friendly event we will explore the story of the Exo
 dus using chocolate in place of the traditional Passover foods.  
DTSTART;TZID=America/New_York:20170401T160000
DTEND;TZID=America/New_York:20170401T170000
END:VEVENT
END:VCALENDAR
