BEGIN:VCALENDAR
PRODID:-//eluceo/ical//2.0/EN
VERSION:2.0
CALSCALE:GREGORIAN
BEGIN:VEVENT
UID:90ae395871cd9b138af397a09fde101c
DTSTAMP:20260420T061601Z
SUMMARY:Temple Anshe Amunim Dinner Dance
DESCRIPTION:Jewish Federation of the Berkshires\nBerkshire Jewish Community
  Calendar\nhttps://jewishberkshires.org/jewish-federation-of-the-berkshire
 s-calendar/temple-anshe-amunim-dinner-dance\n\nTemple Anshe Amunim Dinner 
 Dance
DTSTART;TZID=America/New_York:20130825T183000
DTEND;TZID=America/New_York:20130825T220000
END:VEVENT
END:VCALENDAR
