BEGIN:VCALENDAR
PRODID:-//eluceo/ical//2.0/EN
VERSION:2.0
CALSCALE:GREGORIAN
BEGIN:VEVENT
UID:840d7035a1a97f38f02285bbf0b27517
DTSTAMP:20260421T095340Z
SUMMARY:Taste of Memory - Chef Carol Goodman Kaufman
DESCRIPTION:Jewish Federation of the Berkshires\nBerkshire Jewish Community
  Calendar\nhttps://jewishberkshires.org/jewish-federation-of-the-berkshire
 s-calendar/taste-of-memory---chef-carol-goodman-kaufman-24772\n\nTaste of 
 Memory -Chef Carol Goodman
DTSTART;TZID=America/New_York:20130429T193000
DTEND;TZID=America/New_York:20130429T200000
END:VEVENT
END:VCALENDAR
