BEGIN:VCALENDAR
PRODID:-//eluceo/ical//2.0/EN
VERSION:2.0
CALSCALE:GREGORIAN
BEGIN:VEVENT
UID:7ae7a0ad69f9237d9716cdffd5617fea
DTSTAMP:20260421T080243Z
SUMMARY:Tanglewood Shabbat with Hevreh
DESCRIPTION:Jewish Federation of the Berkshires\nBerkshire Jewish Community
  Calendar\nhttps://jewishberkshires.org/jewish-federation-of-the-berkshire
 s-calendar/tanglewood-shabbat-with-hevreh-1686254729\n\nJoin the Hevreh co
 ngregation at Tanglewood for a quick Shabbat service on the lawn before th
 e music begins. The Boston Symphony Orchestra will play with Dima Sloboden
 iouk and Emanuel Ax performing music from Adams and Brahms. Attendees must
  purchase their own lawn ticket for the concert. There will be no services
  at Hevreh this evening. Rain date will be Friday\, Aug. 11 if needed.
DTSTART;TZID=America/New_York:20230804T180000
DTEND;TZID=America/New_York:20230804T200000
END:VEVENT
END:VCALENDAR
