BEGIN:VCALENDAR
PRODID:-//eluceo/ical//2.0/EN
VERSION:2.0
CALSCALE:GREGORIAN
BEGIN:VEVENT
UID:baf979b2dab56e51e2960700d5f3649e
DTSTAMP:20260424T174439Z
SUMMARY:Tanglewood Shabbat\, Round I
DESCRIPTION:Jewish Federation of the Berkshires\nBerkshire Jewish Community
  Calendar\nhttps://jewishberkshires.org/jewish-federation-of-the-berkshire
 s-calendar/tanglewood-shabbat-round-i-1463583200\n\nJoin us for a special 
 gathering on the lawn at Tanglewood. Look for the blue and white balloons 
 in the middle of the lawn to set up your picnic dinner\, and bring a desse
 rt to share. We’ll gather for Kabbalat Shabbat at the back of the lawn a
 t approximately 7 pm. Gates open at 4 pm. Please note\, there will be no s
 ervices at Hevreh that evening. Please call the Tanglewood Box Office to p
 urchase lawn tickets at (888) 266-1200.\nFeatured concert: Opening Night a
 t Tanglewood: Jacques Lacombe con...
DTSTART;TZID=America/New_York:20160708T190000
DTEND;TZID=America/New_York:20160708T210000
END:VEVENT
END:VCALENDAR
