BEGIN:VCALENDAR
PRODID:-//eluceo/ical//2.0/EN
VERSION:2.0
CALSCALE:GREGORIAN
BEGIN:VEVENT
UID:362dd8b18d2405d38c09632611a3fc48
DTSTAMP:20260422T121340Z
SUMMARY:Tanglewood Havdalah with Anshe Amunim
DESCRIPTION:Jewish Federation of the Berkshires\nBerkshire Jewish Community
  Calendar\nhttps://jewishberkshires.org/jewish-federation-of-the-berkshire
 s-calendar/tanglewood-havdalah-with-anshe-amunim-1519394935\n\nJoin Temple
  Anshe Amunim in their Annual Havdalah at Tanglewood. Look for the blue an
 d white balloons in the middle of the lawn and we'll gather for Havdalah  
 at the back of the lawn at approximately 7 pm.\n\nDavid Newman conducts Be
 rnstein's West Side Story\nFilm with Live Orchestra\nTanglewood\nKoussevit
 zky Music Shed - Lenox\, MA \n\n
DTSTART;TZID=America/New_York:20180728T190000
DTEND;TZID=America/New_York:20180728T193000
END:VEVENT
END:VCALENDAR
