BEGIN:VCALENDAR
PRODID:-//eluceo/ical//2.0/EN
VERSION:2.0
CALSCALE:GREGORIAN
BEGIN:VEVENT
UID:c990042cca341b869a0d004baa81e3cf
DTSTAMP:20260421T030051Z
SUMMARY:Tanglewood Havdalah
DESCRIPTION:Jewish Federation of the Berkshires\nBerkshire Jewish Community
  Calendar\nhttps://jewishberkshires.org/jewish-federation-of-the-berkshire
 s-calendar/tanglewood-havdalah-1715801790\n\nPack your picnic gear\, dinne
 r and beverages and join us on the lawn at Tanglewood for a brief Havdalah
  Service followed by a BSO concert at 8 pm. Look for the blue and white ba
 lloons. A ticket to the concert may be purchased at the gate or in advance
  online.
DTSTART;TZID=America/New_York:20240824T190000
DTEND;TZID=America/New_York:20240824T220000
END:VEVENT
END:VCALENDAR
