BEGIN:VCALENDAR
PRODID:-//eluceo/ical//2.0/EN
VERSION:2.0
CALSCALE:GREGORIAN
BEGIN:VEVENT
UID:62f9946f120f9e5cf71ba4ceeb0a55f8
DTSTAMP:20260420T111349Z
SUMMARY:Tanglewood Havdalah
DESCRIPTION:Jewish Federation of the Berkshires\nBerkshire Jewish Community
  Calendar\nhttps://jewishberkshires.org/jewish-federation-of-the-berkshire
 s-calendar/tanglewood-havdalah-1715801739\n\nPack your picnic gear\, dinne
 r and beverages and join us on the lawn at Tanglewood for a brief Havdalah
  Service followed by a BSO concert at 8 pm. Look for the blue and white ba
 lloons. A ticket to the concert may be purchased at the gate or in advance
  online.
DTSTART;TZID=America/New_York:20240713T190000
DTEND;TZID=America/New_York:20240713T220000
END:VEVENT
END:VCALENDAR
