BEGIN:VCALENDAR
PRODID:-//eluceo/ical//2.0/EN
VERSION:2.0
CALSCALE:GREGORIAN
BEGIN:VEVENT
UID:2aff54117ae9a08d33adf6bd9c82552e
DTSTAMP:20260422T144427Z
SUMMARY:Untangling Tanglewood: An Overview of the 2016 Season
DESCRIPTION:Jewish Federation of the Berkshires\nBerkshire Jewish Community
  Calendar\nhttps://jewishberkshires.org/jewish-federation-of-the-berkshire
 s-calendar/tanglewood-everything-you-always-wanted-to-know-but-were-afraid
 -to-ask\n\nThe Jewish Federation Connecting with Community series welcomes
  Renee Rotta\, the Tanglewood marketing coordinator for the Boston Symphon
 y Orchestra\, and guide extraordinaire Gabriel Kosakoff.
DTSTART;TZID=America/New_York:20160602T104500
DTEND;TZID=America/New_York:20160602T120000
END:VEVENT
END:VCALENDAR
