BEGIN:VCALENDAR
PRODID:-//eluceo/ical//2.0/EN
VERSION:2.0
CALSCALE:GREGORIAN
BEGIN:VEVENT
UID:e5f5e11bb33bc669056bff91b2f5a434
DTSTAMP:20260422T113443Z
SUMMARY:Talmud for Dummies
DESCRIPTION:Jewish Federation of the Berkshires\nBerkshire Jewish Community
  Calendar\nhttps://jewishberkshires.org/jewish-federation-of-the-berkshire
 s-calendar/talmud-for-dummies-1417820596\n\nThis 5 class series will provi
 de a  unique opportunity to gain access to traditional learning in a welco
 ming contemporary context. User Friendly. Beginners Welcome. All classes w
 ill be taught by Rabba Kaya Stern-Kaufman.\nPartial Scholarships Available
 .\n$100/series or $25/class   \nRimon members: 10% discount
DTSTART;TZID=America/New_York:20150218T190000
DTEND;TZID=America/New_York:20150218T203000
END:VEVENT
END:VCALENDAR
