BEGIN:VCALENDAR
PRODID:-//eluceo/ical//2.0/EN
VERSION:2.0
CALSCALE:GREGORIAN
BEGIN:VEVENT
UID:531f22db8281ae30ab37530accddeb84
DTSTAMP:20260422T165845Z
SUMMARY:TALK | "The New American Reality\," with Ilan Stavans
DESCRIPTION:Jewish Federation of the Berkshires\nBerkshire Jewish Community
  Calendar\nhttps://jewishberkshires.org/jewish-federation-of-the-berkshire
 s-calendar/talk--the-new-american-reality-with-ilan-stavans-1492530257\n\n
 Anti-Semitism remains an inextricable part of contemporary life. In today
 ’s America\, it finds partners in unlikely places\, from the government 
 to college campuses to rural communities. In this series of three talks\, 
 each with a different focus\, author and Amherst College Professor Ilan St
 avans considers the “new normal” in today's United States and the ways
  anti-Semitism manifests in regions as diverse as Europe\, Latin America\,
  and the Middle East. The other talks in the series take pla...
DTSTART;TZID=America/New_York:20170425T190000
DTEND;TZID=America/New_York:20170425T210000
END:VEVENT
END:VCALENDAR
