BEGIN:VCALENDAR
PRODID:-//eluceo/ical//2.0/EN
VERSION:2.0
CALSCALE:GREGORIAN
BEGIN:VEVENT
UID:bb183ef9cfa6b9692a439744570bc933
DTSTAMP:20260419T231408Z
SUMMARY:TALK | "Stars in the Ring: Jewish Champions in the Golden Age of Bo
 xing"
DESCRIPTION:Jewish Federation of the Berkshires\nBerkshire Jewish Community
  Calendar\nhttps://jewishberkshires.org/jewish-federation-of-the-berkshire
 s-calendar/talk--stars-in-the-ring-jewish-champions-in-the-golden-age-of-b
 oxing-1471635405\n\nBoxing historian Mike Silver\, author of Stars in the 
 Ring: Jewish Champions in the Golden Age of Boxing: A Photographic History
 \, talks about the all-but-forgotten history of Jewish boxers from the 189
 0s to the 1950s\, including Jewish boxers and entrepreneurs’ domination 
 of the sport in the 1920s and ’30s and the ways boxing helped Jews assim
 ilate to life in the United States. After his talk\, Silver will sign copi
 es of his book.Visit the related exhibit Yiddish Fight Club\, about Jewish
  box...
DTSTART;TZID=America/New_York:20161009T140000
DTEND;TZID=America/New_York:20161009T153000
END:VEVENT
END:VCALENDAR
