BEGIN:VCALENDAR
PRODID:-//eluceo/ical//2.0/EN
VERSION:2.0
CALSCALE:GREGORIAN
BEGIN:VEVENT
UID:46efc0f4a307eff73e4daaffdf45e38b
DTSTAMP:20260423T151331Z
SUMMARY:TALK | "Breath in a Ram's Horn: The Jewish Spirit in Classical Musi
 c"
DESCRIPTION:Jewish Federation of the Berkshires\nBerkshire Jewish Community
  Calendar\nhttps://jewishberkshires.org/jewish-federation-of-the-berkshire
 s-calendar/talk--breath-in-a-rams-horn-the-jewish-spirit-in-classical-musi
 c-1471635615\n\nComposer\, conductor\, professor\, and activist Daniel Asi
 a talks about the origins of Yiddish song in Eastern European culture\, it
 s continuation on the American scene in the music of Yiddish composer Laza
 r Weiner\, and its influence on Asia’s own award-winning music.This even
 t is free and open to the public.
DTSTART;TZID=America/New_York:20161030T140000
DTEND;TZID=America/New_York:20161030T153000
END:VEVENT
END:VCALENDAR
