BEGIN:VCALENDAR
PRODID:-//eluceo/ical//2.0/EN
VERSION:2.0
CALSCALE:GREGORIAN
BEGIN:VEVENT
UID:57117cf15ecdd8be96ea36438b45ddf7
DTSTAMP:20260419T114948Z
SUMMARY:Taking Action for Animals
DESCRIPTION:Jewish Federation of the Berkshires\nBerkshire Jewish Community
  Calendar\nhttps://jewishberkshires.org/jewish-federation-of-the-berkshire
 s-calendar/taking-action-for-animals\n\nThe Jewish Federation Connecting w
 ith Community presents "Taking Action for Animals: How Each One of Us Can 
 Make This a More Humane World" with Susan Emerson Clapp\, Senior Director 
 of Philanthropy for the Humane Society of the US (HSUS).
DTSTART;TZID=America/New_York:20181105T104500
DTEND;TZID=America/New_York:20181105T120000
END:VEVENT
END:VCALENDAR
