BEGIN:VCALENDAR
PRODID:-//eluceo/ical//2.0/EN
VERSION:2.0
CALSCALE:GREGORIAN
BEGIN:VEVENT
UID:45acea91cd970ac5200d4bfc994707a3
DTSTAMP:20260422T115237Z
SUMMARY:TAA Theatrical Production
DESCRIPTION:Jewish Federation of the Berkshires\nBerkshire Jewish Community
  Calendar\nhttps://jewishberkshires.org/jewish-federation-of-the-berkshire
 s-calendar/taa-theatrical-production-1576787412\n\nTheatrical production (
 Written by Jesse Waldinger and Directed by Barbara Waldinger)
DTSTART;TZID=America/New_York:20200913T140000
DTEND;TZID=America/New_York:20200913T160000
END:VEVENT
END:VCALENDAR
