BEGIN:VCALENDAR
PRODID:-//eluceo/ical//2.0/EN
VERSION:2.0
CALSCALE:GREGORIAN
BEGIN:VEVENT
UID:81b01fffdee54271e66f6d93c9d669f0
DTSTAMP:20260420T111339Z
SUMMARY:TAA Tanglewood Havdalah
DESCRIPTION:Jewish Federation of the Berkshires\nBerkshire Jewish Community
  Calendar\nhttps://jewishberkshires.org/jewish-federation-of-the-berkshire
 s-calendar/taa-tanglewood-havdalah-1563393125\n\nJoin Temple Anshe Amunim 
 for a Havdalah on the lawn at Tanglewood. 
DTSTART;TZID=America/New_York:20190803T190000
DTEND;TZID=America/New_York:20190803T210000
END:VEVENT
END:VCALENDAR
