BEGIN:VCALENDAR
PRODID:-//eluceo/ical//2.0/EN
VERSION:2.0
CALSCALE:GREGORIAN
BEGIN:VEVENT
UID:a05bb03c90b548ea13da70f877c7c2f7
DTSTAMP:20260420T180925Z
SUMMARY:TAA Religious School Open House and Free Family Picnic
DESCRIPTION:Jewish Federation of the Berkshires\nBerkshire Jewish Community
  Calendar\nhttps://jewishberkshires.org/jewish-federation-of-the-berkshire
 s-calendar/taa-religious-school-open-house-and-free-family-picnic-15027438
 06\n\nAll are invited to join us to learn about our new innovative program
  for students in K-12.  Classes begin at 3:00 p.m. and will be followed by
  a family picnic for all at 4:30 p.m.  RSVP by September 8\, 2017 to Templ
 e office by phone (413) 442-5910 or by email templeoffice@ansheamunim.org.
   For more information contact Esther Benari-Altmann\, Religious Education
  Director by email at eba@ansheamunim.org.
DTSTART;TZID=America/New_York:20170909T150000
DTEND;TZID=America/New_York:20170909T173000
END:VEVENT
END:VCALENDAR
