BEGIN:VCALENDAR
PRODID:-//eluceo/ical//2.0/EN
VERSION:2.0
CALSCALE:GREGORIAN
BEGIN:VEVENT
UID:47ddf8f1ab9cccc4f7442f68992f7291
DTSTAMP:20260421T095320Z
SUMMARY:Survival\, Hope and a Lifetime of Service
DESCRIPTION:Jewish Federation of the Berkshires\nBerkshire Jewish Community
  Calendar\nhttps://jewishberkshires.org/jewish-federation-of-the-berkshire
 s-calendar/survival-hope-and-a-lifetime-of-service\n\n film "Etched in Gla
 ss: The Legacy of Steve Ross"
DTSTART;TZID=America/New_York:20180827T104500
DTEND;TZID=America/New_York:20180827T120000
END:VEVENT
END:VCALENDAR
