BEGIN:VCALENDAR
PRODID:-//eluceo/ical//2.0/EN
VERSION:2.0
CALSCALE:GREGORIAN
BEGIN:VEVENT
UID:8111436bd0ba5bba0ef61e2200507730
DTSTAMP:20260426T041512Z
SUMMARY:Studying the Talmud at Hevreh
DESCRIPTION:Jewish Federation of the Berkshires\nBerkshire Jewish Community
  Calendar\nhttps://jewishberkshires.org/jewish-federation-of-the-berkshire
 s-calendar/studying-the-talmud-at-hevreh-1492542123\n\nThe group will read
  Talmud (Steinsaltz edition) and engage in spirited debate on the merits o
 f each case.
DTSTART;TZID=America/New_York:20170808T093000
DTEND;TZID=America/New_York:20170808T110000
END:VEVENT
END:VCALENDAR
