BEGIN:VCALENDAR
PRODID:-//eluceo/ical//2.0/EN
VERSION:2.0
CALSCALE:GREGORIAN
BEGIN:VEVENT
UID:6eb8fe1a47c8a959a59cf8178462c7a0
DTSTAMP:20260420T030941Z
SUMMARY:Studio Tour of Michael Strassfeld's Jewish Memorabilia
DESCRIPTION:Jewish Federation of the Berkshires\nBerkshire Jewish Community
  Calendar\nhttps://jewishberkshires.org/jewish-federation-of-the-berkshire
 s-calendar/studio-tour-of-michael-strassfelds-jewish-memorabilia\n\nA Stud
 io Tour of Michael Strassfeld's collection of Jewish Memorabilia
DTSTART;TZID=America/New_York:20190602T160000
DTEND;TZID=America/New_York:20190602T180000
END:VEVENT
END:VCALENDAR
