BEGIN:VCALENDAR
PRODID:-//eluceo/ical//2.0/EN
VERSION:2.0
CALSCALE:GREGORIAN
BEGIN:VEVENT
UID:f680e1b01b6e98fcb89704196b0ba863
DTSTAMP:20260422T202637Z
SUMMARY:Straight Answers to Gay Questions
DESCRIPTION:Jewish Federation of the Berkshires\nBerkshire Jewish Community
  Calendar\nhttps://jewishberkshires.org/jewish-federation-of-the-berkshire
 s-calendar/straight-answers-to-gay-questions\n\nThe Jewish Federation Conn
 ecting with Community series hosts Ed Sedarbaum\, founder of Rainbow Senio
 rs\, for "Straight Answers to Gay Questions."  
DTSTART;TZID=America/New_York:20170427T104500
DTEND;TZID=America/New_York:20170427T120000
END:VEVENT
END:VCALENDAR
