BEGIN:VCALENDAR
PRODID:-//eluceo/ical//2.0/EN
VERSION:2.0
CALSCALE:GREGORIAN
BEGIN:VEVENT
UID:780abbe4cfbefaff856f1e2b7c5fd926
DTSTAMP:20260419T163052Z
SUMMARY:Stop the Bleed Training
DESCRIPTION:Jewish Federation of the Berkshires\nBerkshire Jewish Community
  Calendar\nhttps://jewishberkshires.org/jewish-federation-of-the-berkshire
 s-calendar/stop-the-bleed-training-nov-27\n\nPlease Register HERE.\n\nYou 
 are the Help Until Help Arrives!\n\nStop the Bleed is a national awareness
  campaign to empower each one of us to help in an emergency.  Led by trai
 ned professional (nurses\, EMS\, law enforcement) this training will inclu
 de hands-on experience with tourniquets and wound packing.  Must be 16 ye
 ars of age.  Space is limited and pre-registration required.  We cannot 
 accommodate walk-ins.\n\nAdvance Registration required by Nov. 20th\n\n 
DTSTART;TZID=America/New_York:20231127T183000
DTEND;TZID=America/New_York:20231127T200000
END:VEVENT
END:VCALENDAR
