BEGIN:VCALENDAR
PRODID:-//eluceo/ical//2.0/EN
VERSION:2.0
CALSCALE:GREGORIAN
BEGIN:VEVENT
UID:548089ce7a706f897ff6dc810ea5c2b3
DTSTAMP:20260422T134311Z
SUMMARY:Spirituality of Aging:  6 Session Course & Conversation About Life 
 & Death
DESCRIPTION:Jewish Federation of the Berkshires\nBerkshire Jewish Community
  Calendar\nhttps://jewishberkshires.org/jewish-federation-of-the-berkshire
 s-calendar/spirituality-of-aging-6-session-course--conversation-about-life
 --death\n\nThe Jewish Federation Connecting with Community presents "The S
 pirituality of Aging:  6 Session Course & Conversation About Life & Death.
 "
DTSTART;TZID=America/New_York:20180201T104500
DTEND;TZID=America/New_York:20180201T120000
END:VEVENT
END:VCALENDAR
